BEGIN:VCALENDAR
VERSION:2.0
PRODID:-//ofswcd.org//NONSGML kigkonsult.se iCalcreator 2.30.10//
CALSCALE:GREGORIAN
METHOD:PUBLISH
UID:0042764e-08bc-4d31-8da3-d281fcda570d
X-WR-CALDESC:
X-WR-RELCALID:df14b3fe8c134a67dabbae3e1a146fe6
X-WR-TIMEZONE:America/New_York
BEGIN:VTIMEZONE
TZID:America/New_York
BEGIN:STANDARD
TZNAME:EST
DTSTART:20241103T020000
TZOFFSETFROM:-0400
TZOFFSETTO:-0500
RDATE:20251102T020000
RDATE:20261101T020000
END:STANDARD
BEGIN:DAYLIGHT
TZNAME:EDT
DTSTART:20250309T020000
TZOFFSETFROM:-0500
TZOFFSETTO:-0400
RDATE:20260308T020000
END:DAYLIGHT
END:VTIMEZONE
BEGIN:VEVENT
UID:632b1058-5f89-466f-9d52-65ef329b4254
DTSTAMP:20260419T203051Z
DESCRIPTION:
DTSTART;TZID=America/New_York:20250623T060000
DTEND;TZID=America/New_York:20250623T060001
LOCATION:8995 E. Main Street\, Reynoldsburg\, AL 43068 US
SUMMARY:Mental Health First Aid
END:VEVENT
END:VCALENDAR
