BEGIN:VCALENDAR
VERSION:2.0
PRODID:-//ofswcd.org//NONSGML kigkonsult.se iCalcreator 2.30.10//
CALSCALE:GREGORIAN
METHOD:PUBLISH
UID:186c190a-25a0-4780-8b09-13691a0bb8f1
X-WR-CALDESC:Please use the following link to register --- https://web.cven
 t.com/event/d10d9081-8354-4e18-8278-667822a5f67e/regProcessStep1
X-WR-RELCALID:1081907472a4c3a75388bfadb29a444e
X-WR-TIMEZONE:America/New_York
BEGIN:VTIMEZONE
TZID:America/New_York
BEGIN:STANDARD
TZNAME:EST
DTSTART:20241103T020000
TZOFFSETFROM:-0400
TZOFFSETTO:-0500
RDATE:20251102T020000
RDATE:20261101T020000
END:STANDARD
BEGIN:DAYLIGHT
TZNAME:EDT
DTSTART:20250309T020000
TZOFFSETFROM:-0500
TZOFFSETTO:-0400
RDATE:20260308T020000
END:DAYLIGHT
END:VTIMEZONE
BEGIN:VEVENT
UID:93d3cbc2-bf6c-4190-ba69-6e34b7a2800d
DTSTAMP:20260419T185927Z
DESCRIPTION:Please use the following link to register --- https://web.cvent
 .com/event/d10d9081-8354-4e18-8278-667822a5f67e/regProcessStep1
DTSTART;TZID=America/New_York:20250727T150000
DTEND;TZID=America/New_York:20250729T150000
LOCATION:Sheraton Suites - Cuyahoga Falls\, 1989 Front Street\, Cuyahoga Fa
 lls\, OH 44221 US
SUMMARY:Summer Supervisor School
END:VEVENT
END:VCALENDAR
