BEGIN:VCALENDAR
VERSION:2.0
PRODID:-//ofswcd.org//NONSGML kigkonsult.se iCalcreator 2.30.10//
CALSCALE:GREGORIAN
METHOD:PUBLISH
UID:8508e9cc-1db9-4ebe-b54d-4d5aefba55cd
X-WR-CALDESC:
X-WR-RELCALID:cc07144a4742efbfde7a3dff5c398e9b
X-WR-TIMEZONE:America/New_York
BEGIN:VTIMEZONE
TZID:America/New_York
BEGIN:STANDARD
TZNAME:EST
DTSTART:20241103T020000
TZOFFSETFROM:-0400
TZOFFSETTO:-0500
RDATE:20251102T020000
RDATE:20261101T020000
END:STANDARD
BEGIN:DAYLIGHT
TZNAME:EDT
DTSTART:20250309T020000
TZOFFSETFROM:-0500
TZOFFSETTO:-0400
RDATE:20260308T020000
RDATE:20270314T020000
END:DAYLIGHT
END:VTIMEZONE
BEGIN:VEVENT
UID:e2557d60-508c-4cad-9932-5e142130b3fa
DTSTAMP:20260419T155124Z
DESCRIPTION:
DTSTART;TZID=America/New_York:20250916T060000
DTEND;TZID=America/New_York:20250918T060001
LOCATION:135 State Route 38 NE \, London\, OH 43140 US
SUMMARY:Farm Science Review
END:VEVENT
END:VCALENDAR
