BEGIN:VCALENDAR
VERSION:2.0
PRODID:-//ofswcd.org//NONSGML kigkonsult.se iCalcreator 2.30.10//
CALSCALE:GREGORIAN
METHOD:PUBLISH
UID:51397555-b42f-46e5-8209-5c28f1e15248
X-WR-CALDESC:On Wednesday the 22nd\, we are having the choice of 2 tours an
 d would like to limit each to 25 people if possible.\n1. Ohio Bird Sanctua
 ry Tour – This tour will showcase resident bids and share their natural hi
 story. Visitors will also have the opportunity to visit the songbird sanct
 uary and feed the birds. (Limited to 25 participants)\n2. Richland County 
 Recycling Center and Escape Room – On this tour participants will learn ab
 out their educational and recycling programs at the recycling center. Part
 icipants will also get the opportunity to try)out their puzzle solving ski
 lls in the new escape room. (Limited to 25 participants)\n\nThursday Tour 
 options\n1. Mohican State Park\n2. Malabar Farm House Tour (on your own-co
 st not covered by registration)\n\nIn addition\, Dennis will again be offe
 ring a training session ahead of the State Educator’s meeting -Tuesday\, O
 ctober 21\, 1-5 pm. This year it will be Advanced Soils Training. No cost\
 , but we would like them to register for it so we have a head count ahead 
 of time. (Change to -There is no cost to attend the Advanced Soils trainin
 g\, but please register so that we have a participant count prior to the e
 vent.)”\n
X-WR-RELCALID:748b5b689c1df24e6703443b752bf710
X-WR-TIMEZONE:America/New_York
BEGIN:VTIMEZONE
TZID:America/New_York
BEGIN:STANDARD
TZNAME:EST
DTSTART:20241103T020000
TZOFFSETFROM:-0400
TZOFFSETTO:-0500
RDATE:20251102T020000
RDATE:20261101T020000
END:STANDARD
BEGIN:DAYLIGHT
TZNAME:EDT
DTSTART:20250309T020000
TZOFFSETFROM:-0500
TZOFFSETTO:-0400
RDATE:20260308T020000
RDATE:20270314T020000
END:DAYLIGHT
END:VTIMEZONE
BEGIN:VEVENT
UID:9e40bc72-365d-4064-803f-2dbf1bbd44a3
DTSTAMP:20260421T095646Z
DESCRIPTION:On Wednesday the 22nd\, we are having the choice of 2 tours and
  would like to limit each to 25 people if possible.\n1. Ohio Bird Sanctuar
 y Tour – This tour will showcase resident bids and share their natural his
 tory. Visitors will also have the opportunity to visit the songbird sanctu
 ary and feed the birds. (Limited to 25 participants)\n2. Richland County R
 ecycling Center and Escape Room – On this tour participants will learn abo
 ut their educational and recycling programs at the recycling center. Parti
 cipants will also get the opportunity to try)out their puzzle solving skil
 ls in the new escape room. (Limited to 25 participants)\n\nThursday Tour o
 ptions\n1. Mohican State Park\n2. Malabar Farm House Tour (on your own-cos
 t not covered by registration)\n\nIn addition\, Dennis will again be offer
 ing a training session ahead of the State Educator’s meeting -Tuesday\, Oc
 tober 21\, 1-5 pm. This year it will be Advanced Soils Training. No cost\,
  but we would like them to register for it so we have a head count ahead o
 f time. (Change to -There is no cost to attend the Advanced Soils training
 \, but please register so that we have a participant count prior to the ev
 ent.)”\n
DTSTART;TZID=America/New_York:20251021T060000
DTEND;TZID=America/New_York:20251023T060001
LOCATION:Mohican State Park
SUMMARY:Ohio Educator's Conference
END:VEVENT
END:VCALENDAR
