BEGIN:VCALENDAR
VERSION:2.0
PRODID:-//ofswcd.org//NONSGML kigkonsult.se iCalcreator 2.30.10//
CALSCALE:GREGORIAN
METHOD:PUBLISH
UID:392aa736-f441-4d32-9e2d-4fa59ab9375b
X-WR-CALDESC:
X-WR-RELCALID:612f0ccef0d784fd2211b798d8701b21
X-WR-TIMEZONE:America/New_York
BEGIN:VTIMEZONE
TZID:America/New_York
BEGIN:STANDARD
TZNAME:EST
DTSTART:20251102T020000
TZOFFSETFROM:-0400
TZOFFSETTO:-0500
RDATE:20261101T020000
END:STANDARD
BEGIN:DAYLIGHT
TZNAME:EDT
DTSTART:20250309T020000
TZOFFSETFROM:-0500
TZOFFSETTO:-0400
RDATE:20260308T020000
RDATE:20270314T020000
END:DAYLIGHT
END:VTIMEZONE
BEGIN:VEVENT
UID:61b1e992-64e3-48c5-8c17-c6b12f681859
DTSTAMP:20260419T130441Z
DESCRIPTION:
DTSTART;TZID=America/New_York:20251210T180000
DTEND;TZID=America/New_York:20251210T203000
LOCATION:Emmett Chapel \, 318 Tarlton Rd\, Circleville\, OH 43113 US
SUMMARY:Area 5 Winter Meeting
END:VEVENT
END:VCALENDAR
